BEGIN:VCALENDAR
VERSION:2.0
PRODID:icalendar-ruby
CALSCALE:GREGORIAN
METHOD:PUBLISH
BEGIN:VEVENT
DTSTAMP:20260423T190008Z
UID:43-675440@reformedchurchoradell.com
DTSTART:20260426T183000Z
DTEND:20260426T193000Z
CLASS:PUBLIC
CREATED:20260423T110215
DESCRIPTION:
LAST-MODIFIED:20260423T110215
LOCATION:
SUMMARY:Memorial Service for Joseph Atkinson
URL;VALUE=URI:https://www.reformedchurchoradell.com/events/memorial-service
 -for-joseph-atkinson/2026-04-26
ATTACH;FILENAME=image0 (1).jpeg;FMTTYPE=image/jpeg:https://dq5pwpg1q8ru0.cl
 oudfront.net/2026/04/23/15/01/19/59e2ab02-f5ae-4e66-96ed-64ac86335269/imag
 e0%20(1).jpeg
END:VEVENT
END:VCALENDAR
